BEGIN:VCALENDAR
METHOD:PUBLISH
PRODID:-//github.com/rianjs/ical.net//NONSGML ical.net 4.0//EN
VERSION:2.0
BEGIN:VTIMEZONE
TZID:America/Chicago
X-LIC-LOCATION:America/Chicago
BEGIN:STANDARD
DTSTART:20241103T020000
RRULE:FREQ=YEARLY;BYDAY=1SU;BYMONTH=11
TZNAME:CST
TZOFFSETFROM:-0500
TZOFFSETTO:-0600
END:STANDARD
BEGIN:DAYLIGHT
DTSTART:20250309T020000
RRULE:FREQ=YEARLY;BYDAY=2SU;BYMONTH=3
TZNAME:CDT
TZOFFSETFROM:-0600
TZOFFSETTO:-0500
END:DAYLIGHT
END:VTIMEZONE
BEGIN:VEVENT
DESCRIPTION;LANGUAGE=en-US:Health and Human Services Board and Committee\n
 https://www.outagamie.gov/Meetings-Directory/Health-and-Human-Services-Co
 mmittee
DTEND:20260427T181500
DTSTAMP:20260424T115821Z
DTSTART:20260427T164500
LOCATION:See Agenda For Teleconference Details
SEQUENCE:0
SUMMARY;LANGUAGE=en-US:27 Apr 2026 - Health and Human Services Committee
UID:OpenCities.b8ce7929-b550-493d-ad69-83ae18676722.27452026160400
BEGIN:VALARM
ACTION:DISPLAY
DESCRIPTION:Reminder
DURATION:P0D
TRIGGER:P0D
END:VALARM
END:VEVENT
END:VCALENDAR
